BEGIN:VCALENDAR
VERSION:2.0
PRODID:-//Fraunhofer-Gesellschaft//Fraunhofer Institute for Applied and Int
 egrated Security //ENGLISH
BEGIN:VEVENT
UID:9cd5699a-7a4c-48f2-a3e0-a10b93581d3a
DTSTAMP:20260417T121827Z
SUMMARY:The annual Fraunhofer AISEC networking event on post-quantum crypto
 graphy
DTSTART:20260503T230000Z
DTEND:20260504T230000Z
END:VEVENT
END:VCALENDAR
